BEGIN:VCALENDAR
VERSION:2.0
PRODID:icalendar-ruby
CALSCALE:GREGORIAN
METHOD:PUBLISH
BEGIN:VEVENT
DTSTAMP:20260423T131801Z
UID:95-2584399@crunited.ca
DTSTART:20260830T170000Z
DTEND:20260830T180000Z
CLASS:PUBLIC
CREATED:20260423T060731
DESCRIPTION:
LAST-MODIFIED:20260423T060731
LOCATION:
SUMMARY:Sunday Worship Service
URL;VALUE=URI:https://www.crunited.ca/events/sunday-worship-service/2026-08
 -30
END:VEVENT
END:VCALENDAR
