BEGIN:VCALENDAR
VERSION:2.0
PRODID:icalendar-ruby
CALSCALE:GREGORIAN
METHOD:PUBLISH
BEGIN:VEVENT
DTSTAMP:20260423T102601Z
UID:95-2583226@crunited.ca
DTSTART:20260816T170000Z
DTEND:20260816T180000Z
CLASS:PUBLIC
CREATED:20260423T031143
DESCRIPTION:
LAST-MODIFIED:20260423T031143
LOCATION:
SUMMARY:Sunday Worship Service
URL;VALUE=URI:https://www.crunited.ca/events/sunday-worship-service/2026-08
 -16
END:VEVENT
END:VCALENDAR
