BEGIN:VCALENDAR
VERSION:2.0
PRODID:icalendar-ruby
CALSCALE:GREGORIAN
METHOD:PUBLISH
BEGIN:VEVENT
DTSTAMP:20260423T085804Z
UID:95-2582054@crunited.ca
DTSTART:20260809T170000Z
DTEND:20260809T180000Z
CLASS:PUBLIC
CREATED:20260422T174227
DESCRIPTION:
LAST-MODIFIED:20260422T174227
LOCATION:
SUMMARY:Sunday Worship Service
URL;VALUE=URI:https://www.crunited.ca/events/sunday-worship-service/2026-08
 -09
END:VEVENT
END:VCALENDAR
