BEGIN:VCALENDAR
VERSION:2.0
PRODID:icalendar-ruby
CALSCALE:GREGORIAN
METHOD:PUBLISH
BEGIN:VEVENT
DTSTAMP:20260423T074702Z
UID:95-2582053@crunited.ca
DTSTART:20260802T170000Z
DTEND:20260802T180000Z
CLASS:PUBLIC
CREATED:20260422T174227
DESCRIPTION:
LAST-MODIFIED:20260422T174227
LOCATION:
SUMMARY:Sunday Worship Service
URL;VALUE=URI:https://www.crunited.ca/events/sunday-worship-service/2026-08
 -02
END:VEVENT
END:VCALENDAR
