BEGIN:VCALENDAR
VERSION:2.0
PRODID:icalendar-ruby
CALSCALE:GREGORIAN
METHOD:PUBLISH
BEGIN:VEVENT
DTSTAMP:20260422T192207Z
UID:95-2579393@crunited.ca
DTSTART:20200112T180000Z
DTEND:20200112T190000Z
CLASS:PUBLIC
CREATED:20260422T115545
DESCRIPTION:
LAST-MODIFIED:20260422T115545
LOCATION:
SUMMARY:Sunday Worship Service
URL;VALUE=URI:https://www.crunited.ca/events/sunday-worship-service/2020-01
 -12
END:VEVENT
END:VCALENDAR
