BEGIN:VCALENDAR
VERSION:2.0
PRODID:icalendar-ruby
CALSCALE:GREGORIAN
METHOD:PUBLISH
BEGIN:VEVENT
DTSTAMP:20260422T180637Z
UID:95-2578221@crunited.ca
DTSTART:20200105T180000Z
DTEND:20200105T190000Z
CLASS:PUBLIC
CREATED:20260422T090126
DESCRIPTION:
LAST-MODIFIED:20260422T090126
LOCATION:
SUMMARY:Sunday Worship Service
URL;VALUE=URI:https://www.crunited.ca/events/sunday-worship-service/2020-01
 -05
END:VEVENT
END:VCALENDAR
