BEGIN:VCALENDAR
VERSION:2.0
PRODID:icalendar-ruby
CALSCALE:GREGORIAN
METHOD:PUBLISH
BEGIN:VEVENT
DTSTAMP:20260422T152228Z
UID:95-2577048@crunited.ca
DTSTART:20191222T180000Z
DTEND:20191222T190000Z
CLASS:PUBLIC
CREATED:20260422T060600
DESCRIPTION:
LAST-MODIFIED:20260422T060600
LOCATION:
SUMMARY:Sunday Worship Service
URL;VALUE=URI:https://www.crunited.ca/events/sunday-worship-service/2019-12
 -22
END:VEVENT
END:VCALENDAR
