BEGIN:VCALENDAR
VERSION:2.0
PRODID:icalendar-ruby
CALSCALE:GREGORIAN
METHOD:PUBLISH
BEGIN:VEVENT
DTSTAMP:20260422T121154Z
UID:95-2575875@crunited.ca
DTSTART:20191208T180000Z
DTEND:20191208T190000Z
CLASS:PUBLIC
CREATED:20260422T031152
DESCRIPTION:
LAST-MODIFIED:20260422T031152
LOCATION:
SUMMARY:Sunday Worship Service
URL;VALUE=URI:https://www.crunited.ca/events/sunday-worship-service/2019-12
 -08
END:VEVENT
END:VCALENDAR
