BEGIN:VCALENDAR
VERSION:2.0
PRODID:icalendar-ruby
CALSCALE:GREGORIAN
METHOD:PUBLISH
BEGIN:VEVENT
DTSTAMP:20260422T093850Z
UID:95-2574702@crunited.ca
DTSTART:20191124T180000Z
DTEND:20191124T190000Z
CLASS:PUBLIC
CREATED:20260421T161713
DESCRIPTION:
LAST-MODIFIED:20260421T161713
LOCATION:
SUMMARY:Sunday Worship Service
URL;VALUE=URI:https://www.crunited.ca/events/sunday-worship-service/2019-11
 -24
END:VEVENT
END:VCALENDAR
